BEGIN:VCALENDAR
VERSION:2.0
PRODID:-//Volt Europa//Events//EN
CALSCALE:GREGORIAN
METHOD:PUBLISH
BEGIN:VEVENT
UID:best-info-stand-bij-bruisend-best-1759057200@voltnederland.org
DTSTAMP:20260423T102133Z
DTSTART;TZID=Europe/Amsterdam:20250928T130000
DTEND;TZID=Europe/Amsterdam:20250928T170000
SUMMARY:Best: Info-stand bij Bruisend Best
DESCRIPTION:Bruisend Best is een evenement waar lokale verenigingen\, non-p
 rofit organisaties en sociale initiatieven zich presenteren aan het brede p
 ubliek. Het team van Volt Best zal daar ook weer zijn\, in gesprek gaan met
  bezoekers en alvast een en ander vertellen over de Tweede Kamer Verkiezing
 en.
LOCATION:Best: Winkelcentrum - Hoofdstraat\, Dorpsplein\, 5683AS Best
URL:https://voltnederland.org/agenda/best-info-stand-bij-bruisend-best
END:VEVENT
END:VCALENDAR
