BEGIN:VCALENDAR
VERSION:2.0
PRODID:-//Volt Europa//Events//EN
CALSCALE:GREGORIAN
METHOD:PUBLISH
BEGIN:VEVENT
UID:beleidsboost-meet-up-laat-jouw-stem-klinken-1747677600@voltnederland.or
 g
DTSTAMP:20260423T144356Z
DTSTART;TZID=Europe/Amsterdam:20250519T200000
DTEND;TZID=Europe/Amsterdam:20250519T220000
SUMMARY:BeleidsBOOST meet-up: Laat jouw stem klinken!
DESCRIPTION:Beleid saai? Niet bij ons! Op 19 mei trappen we af met de aller
 eerste beleidsBOOST – een energieke avond vol ideeën\, input en interact
 ie. En jij bent hard nodig! Op de zeepkist Drie beleidsteams hebben keihard
  gewerkt aan de thema’s: • Genoeg goede woningen • Onderwijs • Een 
 slimme gemeente Zij pitchen hun beleidsvoorstellen en vertellen hoe ze hier
 toe zijn gekomen. Jij luistert\, stelt vragen\, denkt mee. Wat vind jij van
  hun keuzes? Wat mist je nog? Zo bouwen we samen aan beleid waar we als Vol
 t
LOCATION:Parkzicht\, Paul Windhausenweg 1 in Breda
URL:https://voltnederland.org/brabant/agenda/beleidsboost-meet-up-laat-jouw
 -stem-klinken
END:VEVENT
END:VCALENDAR
