BEGIN:VCALENDAR
VERSION:2.0
PRODID:-//Volt Europa//Events//EN
CALSCALE:GREGORIAN
METHOD:PUBLISH
BEGIN:VEVENT
UID:aken-d-karlspreis-uitreiking-aan-ursula-von-der-leyen-1748508300@voltne
 derland.org
DTSTAMP:20260423T114549Z
DTSTART;TZID=Europe/Amsterdam:20250529T104500
DTEND;TZID=Europe/Amsterdam:20250529T150000
SUMMARY:Aken (D): Karlspreis uitreiking aan Ursula von der Leyen
DESCRIPTION:Op Hemelvaartsdag wordt de Internationale Karlspreis uitgereikt
  aan Ursula von der Leyen. Dit jaar is de uitreiking al weer voor de 75e ke
 er in het oude stadhuis van Aken.  Natuurlijk is dit een super Europees eve
 nt\, met interessante Europese kraampjes in de stad en Volt is erbij! Het p
 rogramma: 10.45: Verzamelen bij de Geldbrunnen\, beeldengroep 11.15: Bekijk
 en van de uitreiking van de Karlspreis op grote schermen op de Markt en bez
 oeken info-stands. 13.00: Toespraak door Ursula von der Leyen op
LOCATION:Aken\, Ursulinerstraße 3\, 52062 Aachen\, Germany
URL:https://voltnederland.org/agenda/aken-d-karlspreis-uitreiking-aan-ursul
 a-von-der-leyen
END:VEVENT
END:VCALENDAR
