BEGIN:VCALENDAR
VERSION:2.0
PRODID:-//Volt Europa//Events//EN
CALSCALE:GREGORIAN
METHOD:PUBLISH
BEGIN:VEVENT
UID:actie-tilburg-minimum-jeugdloon-1733320800@voltnederland.org
DTSTAMP:20260423T102104Z
DTSTART;TZID=Europe/Amsterdam:20241204T150000
DTEND;TZID=Europe/Amsterdam:20241204T173000
SUMMARY:Actie Tilburg Minimum Jeugdloon
DESCRIPTION:We hebben een super gave nieuwe campagneactie! De actie heet "J
 ongeren verdienen meer" en draait om het afschaffen van het minimumjeugdloo
 n voor 18+. Op station Tilburg zetten we een stand op waar jongeren kunnen 
 berekenen hoeveel meer ze zouden verdienen met een eerlijk minimumloon. Ver
 volgens ‘betalen’ wij het verschil in loon met Volt nep geld! We gaan i
 n gesprek met voorbijgangers. Jouw enthousiasme en energie maken het versch
 il\, dus sluit vooral aan! 💜
LOCATION:Tilburg centrum
URL:https://voltnederland.org/agenda/actie-tilburg-minimum-jeugdloon
END:VEVENT
END:VCALENDAR
