BEGIN:VCALENDAR
VERSION:2.0
PRODID:-//Volt Europa//Events//EN
CALSCALE:GREGORIAN
METHOD:PUBLISH
BEGIN:VEVENT
UID:voque-1696075200@voltnederland.org
DTSTAMP:20260423T101916Z
DTSTART;TZID=Europe/Amsterdam:20230930T140000
DTEND;TZID=Europe/Amsterdam:20230930T160000
SUMMARY:Volt Amsterdam Quarterly Event
DESCRIPTION:-English below- Volt Amsterdam organiseert elk kwartaal een eve
 nement waar je Volt en je mede-Volters (nog) beter leert kennen. In de nazo
 mer is het tijd voor: het Volt Quarterly Event (VOQUE)\, the End of Summer 
 Edition:  Zaterdag 30 september 14:00 - 16:00 uur\, inloop vanaf 13:30 uur
  Locatie: Buurthuis Lydia (Roelof Hartplein 2A\, Amsterdam) Speciaal voor a
 lle Amsterdamse Volters\, al ben je uiteraard ook welkom als je niet in Ams
 terdam woont of (nog) geen lid bent van Volt! VOQUE is niet alleen 
LOCATION:Amsterdam Buurthuis Lydia
URL:https://voltnederland.org/en/amsterdam/events/voque
END:VEVENT
END:VCALENDAR
