BEGIN:VCALENDAR
VERSION:2.0
PRODID:-//Volt Europa//Events//EN
CALSCALE:GREGORIAN
METHOD:PUBLISH
BEGIN:VEVENT
UID:voque-maart-1741888800@voltnederland.org
DTSTAMP:20260423T113926Z
DTSTART;TZID=Europe/Amsterdam:20250313T190000
DTEND;TZID=Europe/Amsterdam:20250313T230000
SUMMARY:Kwartaal event VOQUE | Maart
DESCRIPTION:We gaan met elkaar in gesprek over actualiteiten en ander (were
 ld)nieuws en we kijken vooruit naar de progressieve ontwikkelingen in Amste
 rdam\, Noord Holland en Den Haag. Dat doen we samen met raadslid Juliet Bro
 ersen\, Statenlid Julia Schneemann en – met een kleine slag om de arm –
  Laurens Dassen! Inloop vanaf 19:00 uur\; het programma begint om 19:30 uur
  Aanmelden Vul je  dit formulier  in als je erbij bent? Dan houden we een p
 lekje voor je gereserveerd! 
LOCATION:Café Belcampo\, Hannie Dankbaarpassage 10 (in Tramremise de Halle
 n)
URL:https://voltnederland.org/amsterdam/agenda/voque-maart
END:VEVENT
END:VCALENDAR
