BEGIN:VCALENDAR
VERSION:2.0
PRODID:-//Volt Europa//Events//EN
CALSCALE:GREGORIAN
METHOD:PUBLISH
BEGIN:VEVENT
UID:voque-juni-1750957200@voltnederland.org
DTSTAMP:20260423T101914Z
DTSTART;TZID=Europe/Amsterdam:20250626T190000
DTEND;TZID=Europe/Amsterdam:20250626T230000
SUMMARY:Algemene Ledenvergadering (ALV) + in gesprek over Volt Europa
DESCRIPTION:Op 26 juni organiseert Volt Amsterdam de Amsterdamse Algemene L
 edenvergadering (ALV) en een presentatie over Volt Europa! De inloop is van
 af 19.00 uur\, om 19.15 starten we met het programma. Ben je erbij? Program
 ma - verkiezing van de lijsttrekker voor de gemeenteraadsverkiezingen (GRV)
  van maart 2026 - verkiezing nieuw bestuurslid beleid van Volt Amsterdam - 
 korte presentatie en in gesprek over Volt Europa\, met co-president van Vol
 t Europa  Mels Klabbers - napraten met een drankje aan de bar Di
LOCATION:Café Belcampo\, Hannie Dankbaarpassage 10 (in Tramremise de Halle
 n)
URL:https://voltnederland.org/amsterdam/agenda/voque-juni
END:VEVENT
END:VCALENDAR
