BEGIN:VCALENDAR
VERSION:2.0
PRODID:-//Volt Europa//Events//EN
CALSCALE:GREGORIAN
METHOD:PUBLISH
BEGIN:VEVENT
UID:volt-verkiezingsavond-in-amsterdam-volt-election-night-in-amsterdam-170
 0679600@voltnederland.org
DTSTAMP:20260422T112026Z
DTSTART;TZID=Europe/Amsterdam:20231122T200000
DTEND;TZID=Europe/Amsterdam:20231122T235900
SUMMARY:Volt Verkiezingsavond in Amsterdam | Volt Election Night in Amsterd
 am
DESCRIPTION:Volt Verkiezingsavond in Amsterdam - ben jij erbij? 20.00 - 0
 0.30 uur Desmet Studio's\, Plantage Middenlaan 4A Aantal drankjes op kosten
  van Volt AANMELDEN Na weken van campagne\, debatten en gesprekken over de 
 toekomst van Nederland is het woensdag 22 november eindelijk zover: de Twee
 de Kamerverkiezingen. Als de stembureaus hun deuren sluiten\, druppelen de 
 uitslagen binnen... Niks zo spannend om tot laat op de avond met elkaar n
 aar de verkiezingsuitslag te kijken. Elke keer als er een nieuwe uits
LOCATION:Desmet Studio's\, Plantage Middenlaan 4A
URL:https://voltnederland.org/amsterdam/agenda/volt-verkiezingsavond-in-ams
 terdam-volt-election-night-in-amsterdam
END:VEVENT
END:VCALENDAR
