BEGIN:VCALENDAR
VERSION:2.0
PRODID:-//Volt Europa//Events//EN
CALSCALE:GREGORIAN
METHOD:PUBLISH
BEGIN:VEVENT
UID:volt-op-het-water-23mei-1716476400@voltnederland.org
DTSTAMP:20260423T102051Z
DTSTART;TZID=Europe/Amsterdam:20240523T170000
DTEND;TZID=Europe/Amsterdam:20240523T210000
SUMMARY:Volt op het water (Campagne event)
DESCRIPTION:Meer info volgt a.s.a.p.
LOCATION:Amsterdamse grachten
URL:https://voltnederland.org/amsterdam/agenda/volt-op-het-water-23mei
END:VEVENT
END:VCALENDAR
