BEGIN:VCALENDAR
VERSION:2.0
PRODID:-//Volt Europa//Events//EN
CALSCALE:GREGORIAN
METHOD:PUBLISH
BEGIN:VEVENT
UID:volt-op-de-bank-20mei-1716199200@voltnederland.org
DTSTAMP:20260423T102132Z
DTSTART;TZID=Europe/Amsterdam:20240520T120000
DTEND;TZID=Europe/Amsterdam:20240520T160000
SUMMARY:Volt op de bank (Campagne event)
DESCRIPTION:Iedere week zal er een paarse bank op een prominente plek in Am
 sterdam staan waar onze kandidaten in gesprek gaan met kiezers.
LOCATION:Centrum\, Amsterdam
URL:https://voltnederland.org/amsterdam/agenda/volt-op-de-bank-20mei
END:VEVENT
END:VCALENDAR
