BEGIN:VCALENDAR
VERSION:2.0
PRODID:-//Volt Europa//Events//EN
CALSCALE:GREGORIAN
METHOD:PUBLISH
BEGIN:VEVENT
UID:volt-amsterdam-veiling-1757611800@voltnederland.org
DTSTAMP:20260423T113842Z
DTSTART;TZID=Europe/Amsterdam:20250911T193000
DTEND;TZID=Europe/Amsterdam:20250911T230000
SUMMARY:End-of-summer drinks
DESCRIPTION:Imagine an evening where you get together with like-minded peop
 le. You enjoy a drink\, test your knowledge in a pub quiz and discover how 
 we are starting to raise funds for the municipal elections. Why you want to
  be there Meet fellow Amsterdammers and like-minded people. Rack your brain
 s during the pub quiz. Enjoy the warm atmosphere and a cold drink. Bring yo
 ur +1 Non-members are welcome at this special campaign drinks event. After 
 all\, we want to spread the Volt message! All you have to do is 
LOCATION:Mi-Ami\, Jan van Galenstraat 169\, 1056 BR Amsterdam
URL:https://voltnederland.org/en/amsterdam/events/volt-amsterdam-veiling
END:VEVENT
END:VCALENDAR
