BEGIN:VCALENDAR
VERSION:2.0
PRODID:-//Volt Europa//Events//EN
CALSCALE:GREGORIAN
METHOD:PUBLISH
BEGIN:VEVENT
UID:volt-amsterdam-quarterly-event-1702126800@voltnederland.org
DTSTAMP:20260423T101945Z
DTSTART;TZID=Europe/Amsterdam:20231209T140000
DTEND;TZID=Europe/Amsterdam:20231209T163000
SUMMARY:Volt Amsterdam Quarterly Event
DESCRIPTION:-English below- AANMELDEN Volt Amsterdam organiseert elk kwarta
 al een evenement waar je Volt en je mede-Volters (nog) beter leert kennen. 
 Nu de herfst aan de deur staat\, is het tijd voor het laatste VOQUE event v
 an het jaar\, the Winter Edition:   Zondag 9 december 14:00 - 16:30 uur\, 
 inloop vanaf 13:30 uur Locatie: Buurthuis Lydia (Roelof Hartplein 2A\, Amst
 erdam) Speciaal voor alle Amsterdamse Volters\, al ben je uiteraard ook wel
 kom als je niet in Amsterdam woont of (nog) geen lid bent van Volt! 
LOCATION:Buurthuis Lydia\, Roelof Hartplein 2A
URL:https://voltnederland.org/amsterdam/agenda/volt-amsterdam-quarterly-eve
 nt
END:VEVENT
END:VCALENDAR
