BEGIN:VCALENDAR
VERSION:2.0
PRODID:-//Volt Europa//Events//EN
CALSCALE:GREGORIAN
METHOD:PUBLISH
BEGIN:VEVENT
UID:tk25-verkiezingsavond-1761760800@voltnederland.org
DTSTAMP:20260423T131114Z
DTSTART;TZID=Europe/Amsterdam:20251029T190000
DTEND;TZID=Europe/Amsterdam:20251029T235900
SUMMARY:TK25 Verkiezingsavond
DESCRIPTION:Samen volgen we de verkiezingsavond na een fantastische campagn
 e! Vanaf 19:00 ben je van harte welkom bij de Q-factory in Amsterdam. De lo
 catie is op loopafstand van Amsterdam Muiderpoort. Het feestje duurt tot 01
 :00 maar daarna kan je natuurlijk nog met je mede-volters de Amsterdamse na
 cht opzoeken. Tickets zijn nodig – claim 'm snel via de link hieronder!  
 https://www.eventbrite.nl/e/tk25-verkiezingsavond-tickets-1682767987349?aff
 =oddtdtcreator
LOCATION:Q-factory
URL:https://voltnederland.org/amsterdam/agenda/tk25-verkiezingsavond
END:VEVENT
END:VCALENDAR
