BEGIN:VCALENDAR
VERSION:2.0
PRODID:-//Volt Europa//Events//EN
CALSCALE:GREGORIAN
METHOD:PUBLISH
BEGIN:VEVENT
UID:rondleiding-op-het-stadhuis-nl-1730824200@voltnederland.org
DTSTAMP:20260423T102133Z
DTSTART;TZID=Europe/Amsterdam:20241105T173000
DTEND;TZID=Europe/Amsterdam:20241105T183000
SUMMARY:Rondleiding op het stadhuis (NL)
DESCRIPTION:Op 5 november organiseert Volt Amsterdam een rondleiding op het
  stadhuis. Tijdens deze rondleiding krijg je een exclusief inkijkje in de A
 msterdamse politiek. Fractieleden vertellen over wat er allemaal bij hun we
 rk komt kijken en hoe een werkdag eruit kan zien. En natuurlijk is er ook t
 ijd voor vragen!  De rondleiding wordt in het Nederlands gegeven. We starte
 n stipt om 17.30 uur dus wees op tijd bij het verzamelpunt bij de receptie 
 op Amstel 1. Aanmelden Er is beperkt plek\, dus schrijf je snel
LOCATION:Amstel 1\, receptie Stadhuis
URL:https://voltnederland.org/amsterdam/agenda/rondleiding-op-het-stadhuis-
 nl
END:VEVENT
END:VCALENDAR
