BEGIN:VCALENDAR
VERSION:2.0
PRODID:-//Volt Europa//Events//EN
CALSCALE:GREGORIAN
METHOD:PUBLISH
BEGIN:VEVENT
UID:rondleiding-op-het-stadhuis-27mei-1748358000@voltnederland.org
DTSTAMP:20260424T030649Z
DTSTART;TZID=Europe/Amsterdam:20250527T170000
DTEND;TZID=Europe/Amsterdam:20250527T190000
SUMMARY:Rondleiding op het stadhuis (NL & EN)
DESCRIPTION:Op  27 mei  organiseert Volt Amsterdam een rondleiding op het s
 tadhuis. Tijdens deze rondleiding krijg je een exclusief inkijkje in de Ams
 terdamse politiek. Fractieleden vertellen over wat er allemaal bij hun werk
  komt kijken en hoe een werkdag eruit kan zien. En natuurlijk is er ook tij
 d voor vragen!  Er worden twee rondleidingen gegeven in het Nederlands en i
 n het Engels. Meld je hier aan!  https://forms.gle/Kb9Yz6VzovpaGaFw8 Vragen
  Wil je iets bespreken of heb je een vraag? Neem contact op he
LOCATION:Amstel 1\, receptie Stadhuis
URL:https://voltnederland.org/amsterdam/agenda/rondleiding-op-het-stadhuis-
 27mei
END:VEVENT
END:VCALENDAR
