BEGIN:VCALENDAR
VERSION:2.0
PRODID:-//Volt Europa//Events//EN
CALSCALE:GREGORIAN
METHOD:PUBLISH
BEGIN:VEVENT
UID:parkentocht-1717318800@voltnederland.org
DTSTAMP:20260423T113837Z
DTSTART;TZID=Europe/Amsterdam:20240602T110000
DTEND;TZID=Europe/Amsterdam:20240602T170000
SUMMARY:Parkentocht voor de Europese verkiezingen (Campagne)
DESCRIPTION:Op 2 juni zullen we in het Oosterpark beginnen met croissants e
 n koffie\, en eindigen we in West met een BBQ. Gedurende de hele dag zullen
  we leuke activiteiten in parken afwisselen met posters plakken\, (brievenb
 us flyeren)\, en zichtbaarheid creëren door de stad. Sluit dus vooral aan 
 wanneer je tijd hebt bij deze paarse golf door Amsterdam!
LOCATION:Amsterdam: Centrum\, Oost\, West en de Pijp
URL:https://voltnederland.org/amsterdam/agenda/parkentocht
END:VEVENT
END:VCALENDAR
