BEGIN:VCALENDAR
VERSION:2.0
PRODID:-//Volt Europa//Events//EN
CALSCALE:GREGORIAN
METHOD:PUBLISH
BEGIN:VEVENT
UID:paneldiscussie-weerbare-democratie-1733166000@voltnederland.org
DTSTAMP:20260423T113923Z
DTSTART;TZID=Europe/Amsterdam:20241202T200000
DTEND;TZID=Europe/Amsterdam:20241202T230000
SUMMARY:Paneldiscussie - Weerbare Democratie
DESCRIPTION:Met de toenemende polarisatie en instabieler wordende wereld\, 
 vieren de anti democratische krachten hun hoogtijdagen. Hoe kan je een demo
 cratie beschermen zonder deze zelf onderuit te halen? Om deze vraag te kunn
 en beantwoorden organiseert Volt Violet op 2 december een panelgesprek over
  de weerbare democratie\, met twee zeer bijzonder gasten. Onze eerste gast 
 is niemand minder dan Marcel ten Hooven. Hij schreef het boek 'Ontmanteling
  van de democratie'\, en schreef al eerder veel over democratie. 
LOCATION:Belcampo Café\, Hannie Dankbaarpassage 10 Amsterdam
URL:https://voltnederland.org/amsterdam/agenda/paneldiscussie-weerbare-demo
 cratie
END:VEVENT
END:VCALENDAR
