BEGIN:VCALENDAR
VERSION:2.0
PRODID:-//Volt Europa//Events//EN
CALSCALE:GREGORIAN
METHOD:PUBLISH
BEGIN:VEVENT
UID:ontmoet-onze-noord-hollandse-kandidaten-1756308600@voltnederland.org
DTSTAMP:20260423T114416Z
DTSTART;TZID=Europe/Amsterdam:20250827T173000
DTEND;TZID=Europe/Amsterdam:20250827T192800
SUMMARY:Ontmoet onze Noord-Hollandse kandidaten
DESCRIPTION:Leden en geïnteresseerden van Volt (afd. Noord-Holland)\, Maak
  je klaar voor de start van de campagne! Op 30 augustus komen we samen voor
  het nationale congres. Daar stellen we niet alleen de kandidaten voor de T
 weede Kamerverkiezingen vast\, maar ook ons verkiezingsprogramma en lancere
 n we officieel de campagne. Dat is het moment waarop we samen de basis legg
 en voor een sterke en zichtbare campagne. Ontmoet onze Noord-Hollandse kand
 idaten Maar voordat het zover is\, heb je op woensdag 27 augustus 
LOCATION:Knus\, Spiegelstraat 9\, Bussum
URL:https://voltnederland.org/agenda/ontmoet-onze-noord-hollandse-kandidate
 n
END:VEVENT
END:VCALENDAR
