BEGIN:VCALENDAR
VERSION:2.0
PRODID:-//Volt Europa//Events//EN
CALSCALE:GREGORIAN
METHOD:PUBLISH
BEGIN:VEVENT
UID:modernisering-familierecht-1764788400@voltnederland.org
DTSTAMP:20260423T102102Z
DTSTART;TZID=Europe/Amsterdam:20251203T200000
DTEND;TZID=Europe/Amsterdam:20251203T220000
SUMMARY:Modernisering familierecht
DESCRIPTION:Nederland kent verschillende gezinsvormen. Denk aan gezinnen me
 t meer dan twee ouders\, of kinderen die via een donor of draagmoeder op de
  wereld komen. Het familierecht in Nederland is daar nog niet altijd op aan
 gepast. Ouders lopen geen verschillende obstakels aan voor meerouderschap e
 n draagmoederschap\, en de politiek speelt een belangrijke rol in het oplos
 sen ervan. Wat staat er op het spel\, wat is er nodig en hoe kan de nieuwe 
 Tweede Kamer hieraan bijdragen? Op 3 december gaan we graag na de
LOCATION:Capital C\, Weesperplein 4B\, 1018 XA Amsterdam
URL:https://voltnederland.org/agenda/modernisering-familierecht
END:VEVENT
END:VCALENDAR
