BEGIN:VCALENDAR
VERSION:2.0
PRODID:-//Volt Europa//Events//EN
CALSCALE:GREGORIAN
METHOD:PUBLISH
BEGIN:VEVENT
UID:maastricht-symposium-europe-whats-next-1713598200@voltnederland.org
DTSTAMP:20260423T113947Z
DTSTART;TZID=Europe/Amsterdam:20240420T093000
DTEND;TZID=Europe/Amsterdam:20240420T183000
SUMMARY:Maastricht - Symposium - Europe\, what's next?
DESCRIPTION:Just 7 weeks before the European elections Volt will organize o
 n April 20th and 21st an English spoken symposium with the title: Europe: w
 hat's next!? The aim of the symposium is to let our audience be inspired by
  top speakers. After their pitch\, they will be challenged by spirited deba
 ters. The plenary group then disperses to discuss in workshops to draw up a
  new optimistic vision of the future for our continent.  We want to reach a
  broader audience: people who share the Volt principles: furthe
LOCATION:Maastricht\, Crowne Plaza Hotel\, Rechtstraat 55\, 6221 EG Maastri
 cht
URL:https://voltnederland.org/amsterdam/agenda/maastricht-symposium-europe-
 whats-next
END:VEVENT
END:VCALENDAR
