BEGIN:VCALENDAR
VERSION:2.0
PRODID:-//Volt Europa//Events//EN
CALSCALE:GREGORIAN
METHOD:PUBLISH
BEGIN:VEVENT
UID:maandelijkse-borrel-november-1731609000@voltnederland.org
DTSTAMP:20260425T204933Z
DTSTART;TZID=Europe/Amsterdam:20241114T193000
DTEND;TZID=Europe/Amsterdam:20241114T230000
SUMMARY:Maandelijkse borrel november
DESCRIPTION:Elke maand organiseert Volt Amsterdam een borrel waar je met an
 deren kunt praten over Volt\, Amsterdam\, de wereld of over iets (heel) and
 ers dat je bezighoudt. Informeel en gezellig\, zonder verplichtingen of ver
 wachtingen. Voor leden van Volt én voor niet-leden/geïnteresseerden: iede
 reen is welkom! De eerstvolgende editie is op  donderdag 14 november vanaf 
 19:30 uur.  Zien we jou ook?  Heb je vragen over de maandelijkse borrel of 
 andere evenementen? Neem contact op met het Community Team van Volt
LOCATION:Café Lennep\, Jacob Van Lennepkade 334\, 1053 NJ Amsterdam
URL:https://voltnederland.org/amsterdam/agenda/maandelijkse-borrel-november
END:VEVENT
END:VCALENDAR
