BEGIN:VCALENDAR
VERSION:2.0
PRODID:-//Volt Europa//Events//EN
CALSCALE:GREGORIAN
METHOD:PUBLISH
BEGIN:VEVENT
UID:maandelijkse-borrel-november-25-1762453800@voltnederland.org
DTSTAMP:20260423T102219Z
DTSTART;TZID=Europe/Amsterdam:20251106T193000
DTEND;TZID=Europe/Amsterdam:20251106T230000
SUMMARY:Maandelijkse borrel november | Thema: de Amsterdamse voedselketen
DESCRIPTION:Er zijn grote verschillen in Amsterdam als het gaat over toegan
 kelijkheid\, beschikbaarheid en gebruik van gezond en betaalbaar eten. Ook 
 importeren we veel voedsel van buiten de stad\, terwijl we die afstanden ku
 nnen verkleinen als we meer in de stad gaan produceren. Daarnaast gooien we
  als stad veel te veel eten weg. Kortom: tijd om ons vast te bijten in de A
 msterdamse voedselketen! Hapklare brokken De gemeente Amsterdam heeft een  
 voedselstrategie  opgesteld en werkt samen met  FoodCLIC \, een E
LOCATION:Brouwerij Poesiat en Kater\, Polderweg 648
URL:https://voltnederland.org/amsterdam/agenda/maandelijkse-borrel-november
 -25
END:VEVENT
END:VCALENDAR
