BEGIN:VCALENDAR
VERSION:2.0
PRODID:-//Volt Europa//Events//EN
CALSCALE:GREGORIAN
METHOD:PUBLISH
BEGIN:VEVENT
UID:maandelijkse-borrel-mei-1747328400@voltnederland.org
DTSTAMP:20260422T022417Z
DTSTART;TZID=Europe/Amsterdam:20250515T190000
DTEND;TZID=Europe/Amsterdam:20250515T230000
SUMMARY:Maandelijkse borrel mei + in gesprek over het basisinkomen
DESCRIPTION:Elke maand organiseert Volt Amsterdam een borrel waar je met an
 deren kunt praten over Volt\, Amsterdam\, de wereld of over iets (heel) and
 ers dat je bezighoudt. Informeel en gezellig\, zonder verplichtingen of ver
 wachtingen. Voor leden van Volt én voor niet-leden/geïnteresseerden: iede
 reen is welkom! De eerstvolgende editie is op  donderdag 15 mei vanaf 19:00
  uur.  Dit keer bij  Poesiat & Kater  in Oost. Zien we jou ook?  Op de avon
 d duiken we met elkaar in het concept  basisinkomen . Heleen Tims e
LOCATION:Poesiat & Kater\, Polderweg 648\, 1093 KP Amsterdam
URL:https://voltnederland.org/amsterdam/agenda/maandelijkse-borrel-mei
END:VEVENT
END:VCALENDAR
