BEGIN:VCALENDAR
VERSION:2.0
PRODID:-//Volt Europa//Events//EN
CALSCALE:GREGORIAN
METHOD:PUBLISH
BEGIN:VEVENT
UID:maandelijkse-borrel-januari-1736447400@voltnederland.org
DTSTAMP:20260423T102101Z
DTSTART;TZID=Europe/Amsterdam:20250109T193000
DTEND;TZID=Europe/Amsterdam:20250109T230000
SUMMARY:Nieuwjaarsborrel januari
DESCRIPTION:Elke maand organiseert Volt Amsterdam een borrel waar je met an
 deren kunt praten over Volt\, Amsterdam\, de wereld of over iets (heel) and
 ers dat je bezighoudt. Informeel en gezellig\, zonder verplichtingen of ver
 wachtingen. Voor leden van Volt én voor niet-leden/geïnteresseerden: iede
 reen is welkom! De eerstvolgende editie is op  donderdag 9 januari vanaf 19
 :30 uur.  Zien we jou ook?  Heb je vragen over de maandelijkse borrel of an
 dere evenementen? Neem contact op met het Community Team van Volt A
LOCATION:Caffee Oslo Beers\, Sloterkade 1a\, 1058 HD Amsterdam
URL:https://voltnederland.org/amsterdam/agenda/maandelijkse-borrel-januari
END:VEVENT
END:VCALENDAR
