BEGIN:VCALENDAR
VERSION:2.0
PRODID:-//Volt Europa//Events//EN
CALSCALE:GREGORIAN
METHOD:PUBLISH
BEGIN:VEVENT
UID:maandelijkse-borrel-get-together-1694539800@voltnederland.org
DTSTAMP:20260423T144125Z
DTSTART;TZID=Europe/Amsterdam:20230912T193000
DTEND;TZID=Europe/Amsterdam:20230912T230000
SUMMARY:Maandelijkse borrel/Get-together
DESCRIPTION:
LOCATION:Peperwortel | Overtoom 140\, 1054 HN Amsterdam
URL:https://voltnederland.org/amsterdam/agenda/maandelijkse-borrel-get-toge
 ther
END:VEVENT
END:VCALENDAR
