BEGIN:VCALENDAR
VERSION:2.0
PRODID:-//Volt Europa//Events//EN
CALSCALE:GREGORIAN
METHOD:PUBLISH
BEGIN:VEVENT
UID:maandelijkse-borrel-april-monthly-get-together-april-1713373200@voltned
 erland.org
DTSTAMP:20260423T114246Z
DTSTART;TZID=Europe/Amsterdam:20240417T190000
DTEND;TZID=Europe/Amsterdam:20240417T230000
SUMMARY:Volt Quarterly Event + Maandelijkse borrel april
DESCRIPTION:Volt Amsterdam organiseert elk kwartaal een evenement waar jij 
 Volt en je mede-Volters (nog) beter leert kennen. In de lente van 2024 is h
 et op 17 april weer tijd voor het Volt Quarterly Event (VOQUE)! VOQUE is ni
 et alleen hét evenement waarbij nieuwe of aspirant-leden kennis kunnen mak
 en met de partij\, maar is ook juist bedoeld voor leden die al wat langer l
 id zijn en die nieuwsgierig zijn naar de laatste ontwikkelingen of input wi
 llen leveren op de beleidsplannen van Volt. Vul je  dit formulie
LOCATION:Huis van de Wijk de Meeuw (Motorwal 300)
URL:https://voltnederland.org/amsterdam/agenda/maandelijkse-borrel-april-mo
 nthly-get-together-april
END:VEVENT
END:VCALENDAR
