BEGIN:VCALENDAR
VERSION:2.0
PRODID:-//Volt Europa//Events//EN
CALSCALE:GREGORIAN
METHOD:PUBLISH
BEGIN:VEVENT
UID:klimaatmars-31mei-1717156800@voltnederland.org
DTSTAMP:20260423T142556Z
DTSTART;TZID=Europe/Amsterdam:20240531T140000
DTEND;TZID=Europe/Amsterdam:20240531T180000
SUMMARY:Klimaatmars Amsterdam\, 31 mei
DESCRIPTION:Droogte\, hitte\, en overstromingen maken slachtoffers en veroo
 rzaken chaos. Maar grote bedrijven? Die blijven gewoon doorgaan met hun sch
 adelijke projecten. Op 31 mei om 14:00 uur veranderen we de Zuidas in Amste
 rdam tot het epicentrum van verandering. Hier draait alles om winst\, zonde
 r aandacht voor mens\, natuur\, of klimaat. Kom ook! Durf je? Op 31 mei zal
  ook Volt de straat op gaan om aandacht te vragen voor het snel veranderend
 e klimaat!  
LOCATION:Zuidas\, Amsterdam
URL:https://voltnederland.org/amsterdam/agenda/klimaatmars-31mei
END:VEVENT
END:VCALENDAR
