BEGIN:VCALENDAR
VERSION:2.0
PRODID:-//Volt Europa//Events//EN
CALSCALE:GREGORIAN
METHOD:PUBLISH
BEGIN:VEVENT
UID:ga-amsterdam-12-september-1726160400@voltnederland.org
DTSTAMP:20260423T142555Z
DTSTART;TZID=Europe/Amsterdam:20240912T190000
DTEND;TZID=Europe/Amsterdam:20240912T230000
SUMMARY:General Assembly Amsterdam + VOQUE
DESCRIPTION:Op donderdag 12 september organiseert Volt Amsterdam een congre
 s voor alle leden én niet-leden\, een zogeheten General Assembly (GA) of c
 ongres. Na het officiële gedeelte van het congres duiken we de inhoud in m
 et een Volt Quarterly Event (VOQUE).  Programma 19.00  uur: Opening\, prese
 ntatie en  verkiezing nieuwe bestuursleden  Volt Amsterdam. 20.00  uur: Ond
 erzoeker Laure Michon (gemeente Amsterdam) bespreekt wie op Volt stemt en w
 erpt een blik vooruit op de gemeenteraadsverkiezingen van 2026. 21
LOCATION:Café Belcampo\, Hannie Dankbaarpassage 10 (in Tramremise de Halle
 n)
URL:https://voltnederland.org/amsterdam/agenda/ga-amsterdam-12-september
END:VEVENT
END:VCALENDAR
