BEGIN:VCALENDAR
VERSION:2.0
PRODID:-//Volt Europa//Events//EN
CALSCALE:GREGORIAN
METHOD:PUBLISH
BEGIN:VEVENT
UID:flyeren-5juni-1717563600@voltnederland.org
DTSTAMP:20260423T101913Z
DTSTART;TZID=Europe/Amsterdam:20240605T070000
DTEND;TZID=Europe/Amsterdam:20240605T190000
SUMMARY:Flyeren voor de Europese verkiezingen (Campagne)
DESCRIPTION:Misschien wel het belangrijkste om te doen om mensen ons verhaa
 l te vertellen! Ga in gesprek met mensen op straat\, of doe je oortjes in e
 n stop onze flyers in alle brievenbussen van jouw buurt!
LOCATION:Drukke locaties in Amsterdam
URL:https://voltnederland.org/amsterdam/agenda/flyeren-5juni
END:VEVENT
END:VCALENDAR
