BEGIN:VCALENDAR
VERSION:2.0
PRODID:-//Volt Europa//Events//EN
CALSCALE:GREGORIAN
METHOD:PUBLISH
BEGIN:VEVENT
UID:flyeren-20mei-1716199200@voltnederland.org
DTSTAMP:20260423T142240Z
DTSTART;TZID=Europe/Amsterdam:20240520T120000
DTEND;TZID=Europe/Amsterdam:20240520T160000
SUMMARY:Flyeren voor de Europese verkiezingen (Campagne)
DESCRIPTION:Meer info volgt a.s.a.p.
LOCATION:Vondelpark\, Amsterdam
URL:https://voltnederland.org/amsterdam/agenda/flyeren-20mei
END:VEVENT
END:VCALENDAR
