BEGIN:VCALENDAR
VERSION:2.0
PRODID:-//Volt Europa//Events//EN
CALSCALE:GREGORIAN
METHOD:PUBLISH
BEGIN:VEVENT
UID:flyeren-19mei-1716112800@voltnederland.org
DTSTAMP:20260423T101920Z
DTSTART;TZID=Europe/Amsterdam:20240519T120000
DTEND;TZID=Europe/Amsterdam:20240519T140000
SUMMARY:Flyeren voor de Europese verkiezingen (Campagne)
DESCRIPTION:Meer info volgt a.s.a.p.
LOCATION:De Zon festival & Fete Du Champagne festival in Amsterdam
URL:https://voltnederland.org/amsterdam/agenda/flyeren-19mei
END:VEVENT
END:VCALENDAR
