BEGIN:VCALENDAR
VERSION:2.0
PRODID:-//Volt Europa//Events//EN
CALSCALE:GREGORIAN
METHOD:PUBLISH
BEGIN:VEVENT
UID:eu-verkiezingsavond-1717695000@voltnederland.org
DTSTAMP:20260423T161202Z
DTSTART;TZID=Europe/Amsterdam:20240606T193000
DTEND;TZID=Europe/Amsterdam:20240606T235900
SUMMARY:EU verkiezingsavond
DESCRIPTION:Het is bijna zover! De klok tikt af naar het moment van de waar
 heid: de Europese verkiezingsavond! We kunnen nauwelijks wachten om deze sp
 annende avond met jullie te delen en samen de eerste exit polls te bekijken
 ! Tijdens de climax van onze radicaal positieve campagne willen we niets li
 ever dan samen met jullie\, onze ongelofelijke vrijwilligers en toegewijde 
 leden\, het moment van de waarheid afwachten en jullie inzet vieren. Voor d
 it evenement is een ticket vereist\, tickets zijn nu beschikbaar:
LOCATION:De Weichert B\, Johan Huizingalaan 763a 1066 VH Amsterdam
URL:https://voltnederland.org/amsterdam/agenda/eu-verkiezingsavond
END:VEVENT
END:VCALENDAR
