BEGIN:VCALENDAR
VERSION:2.0
PRODID:-//Volt Europa//Events//EN
CALSCALE:GREGORIAN
METHOD:PUBLISH
BEGIN:VEVENT
UID:dutch-politics-for-beginners-pubquiz-1758646800@voltnederland.org
DTSTAMP:20260423T113923Z
DTSTART;TZID=Europe/Amsterdam:20250923T190000
DTEND;TZID=Europe/Amsterdam:20250923T230000
SUMMARY:Dutch politics for beginners + Pubquiz
DESCRIPTION:Come and join the next Volt event for Internationals. Get to kn
 ow the Dutch political system with a cold drink at hand\, just in time to b
 e ready to give your vote in the elections (fact no.1: also relevant for qu
 ite some Internationals!). Take part in a fun Pubquiz afterwards\, while ge
 tting to know fellow Volt members and other interested people. It'll be in 
  English  and take place at  Poesiat & Kater\, Polderweg 648\, 1093KP Amst
 erdam\,  starting at  7pm -  just step by .  You don't have to be a 
LOCATION:Poesiat & Kater\, Polderweg 648\, 1093KP Amsterdam
URL:https://voltnederland.org/en/amsterdam/events/dutch-politics-for-beginn
 ers-pubquiz
END:VEVENT
END:VCALENDAR
