BEGIN:VCALENDAR
VERSION:2.0
PRODID:-//Volt Europa//Events//EN
CALSCALE:GREGORIAN
METHOD:PUBLISH
BEGIN:VEVENT
UID:doe-mee-met-amsterdam-cleansday-1758268800@voltnederland.org
DTSTAMP:20260423T102219Z
DTSTART;TZID=Europe/Amsterdam:20250919T100000
DTEND;TZID=Europe/Amsterdam:20250919T120000
SUMMARY:Doe mee met Amsterdam CleansDay!
DESCRIPTION:Vrijdag 19 september steken we samen de handen uit de mouwen ro
 ndom de Sloterplas. Dit initiatief komt vanuit de stad zelf\, en wij helpen
  graag mee. We starten in de ochtend! Want een schone stad is niet alleen e
 en taak van de gemeente\, maar ook van ons Amsterdammers zelf.  👉 Verza
 melen: 09.45 bij metrostation Jan van Galenstraat. 👉 Neem zelf afvalzakk
 en\, handschoenen en eventueel een prikker mee. Iedereen is welkom om mee t
 e doen! Aanmelden hoeft niet.  Samen houden we Amsterdam schoon en leefb
LOCATION:Sloterplas
URL:https://voltnederland.org/amsterdam/agenda/doe-mee-met-amsterdam-cleans
 day
END:VEVENT
END:VCALENDAR
