BEGIN:VCALENDAR
VERSION:2.0
PRODID:-//Volt Europa//Events//EN
CALSCALE:GREGORIAN
METHOD:PUBLISH
BEGIN:VEVENT
UID:discussieavond-1700073000@voltnederland.org
DTSTAMP:20260423T101917Z
DTSTART;TZID=Europe/Amsterdam:20231115T193000
DTEND;TZID=Europe/Amsterdam:20231115T210000
SUMMARY:Discussieavond
DESCRIPTION:Op woesdag 15 november organiseren we een discussieavond bij Pl
 lek in Amsterdam. De deuren openen om 19.00. Het gesprek zal om 19:30 worde
 n gestart en duurt tot 21:00. Na het gesprek is er de mogelijkheid om te b
 lijven hangen voor een borrel\, waarbij Volt trakteert op het eerste drankj
 e.  Diverse sprekers\, waaronder een (kandidaat) Kamerlid\, gaan in gesprek
  over 'gelijke kansen voor iedereen'. Kom ook langs en praat mee met de bel
 eidsmakers van de toekomst!
LOCATION:Pllek\, Amsterdam
URL:https://voltnederland.org/agenda/discussieavond
END:VEVENT
END:VCALENDAR
