BEGIN:VCALENDAR
VERSION:2.0
PRODID:-//Volt Europa//Events//EN
CALSCALE:GREGORIAN
METHOD:PUBLISH
BEGIN:VEVENT
UID:dierendag-demo-1759575600@voltnederland.org
DTSTAMP:20260423T101921Z
DTSTART;TZID=Europe/Amsterdam:20251004T130000
DTEND;TZID=Europe/Amsterdam:20251004T160000
SUMMARY:Dierendag Demo
DESCRIPTION:Elke dag opnieuw worden biggenstaartjes afgebrand\, plofkippen 
 op elkaar gepropt en pasgeboren kalfjes bij hun moeder weggerukt. De vee-in
 dustrie ontneemt dieren alles wat hen tot dier maakt.  Al meer dan twintig 
 jaar belooft de politiek dat het beter wordt. Eerlijker. Dierwaardiger. Maa
 r keer op keer wordt die belofte verbroken. Keer op keer trekt de industrie
  aan het langste eind. De stem van de dieren hoort bijna niemand. Tot nu.  
 Vlak voor de verkiezingen gaan wij de straat op. Op Dierendag. 
LOCATION:Amsterdam
URL:https://voltnederland.org/amsterdam/agenda/dierendag-demo
END:VEVENT
END:VCALENDAR
