BEGIN:VCALENDAR
VERSION:2.0
PRODID:-//Volt Europa//Events//EN
CALSCALE:GREGORIAN
METHOD:PUBLISH
BEGIN:VEVENT
UID:de-rode-lijn-1749985200@voltnederland.org
DTSTAMP:20260423T113839Z
DTSTART;TZID=Europe/Amsterdam:20250615T130000
DTEND;TZID=Europe/Amsterdam:20250615T150000
SUMMARY:De Rode Lijn
DESCRIPTION:We gaan opnieuw de straat op. De vorige keer waren we met meer 
 dan 100.000 mensen. Wie weet\, als jij er bij bent en mensen meeneemt\, zij
 n we nu met 200.000 mensen. Kom zondag 15 juni naar Den Haag. Demissionair 
 of niet\, wij eisen nú concrete stappen van de regering. De mensen in Gaza
  kunnen niet wachten. Kabinet en Tweede Kamer\, kom in actie en trek nú di
 e Rode Lijn! Meld je aan via  https://rightsforum.org/campagnes/nederland-t
 rek-nu-die-rode-lijn/
LOCATION:Den Haag\, Malieveld
URL:https://voltnederland.org/agenda/de-rode-lijn
END:VEVENT
END:VCALENDAR
