BEGIN:VCALENDAR
VERSION:2.0
PRODID:-//Volt Europa//Events//EN
CALSCALE:GREGORIAN
METHOD:PUBLISH
BEGIN:VEVENT
UID:cleanup-juli-1752310800@voltnederland.org
DTSTAMP:20260424T060700Z
DTSTART;TZID=Europe/Amsterdam:20250712T110000
DTEND;TZID=Europe/Amsterdam:20250712T130000
SUMMARY:Doe mee met onze Clean-Up Actie! 🌍
DESCRIPTION:Op 12 juli organiseert Volt Amsterdam weer een clean-up actie\,
  dit keer starten we op het Bos en Lommerplein. We gaan met een groep entho
 usiaste Volters de straat op om deze een stukje schoner te maken. In juli s
 taat de derde op de planning van onze clean-ups die elk kwartaal terug zull
 en komen. Wanneer? Zaterdag 12 juli 11:00 uur Samen maken we een verschil v
 oor een duurzame toekomst! Kom langs\, ontmoet mede-Volters\, en help mee o
 m Amsterdam schoon te maken. Iedereen is welkom\, dus breng gerust
LOCATION:Bos en Lommerplein
URL:https://voltnederland.org/amsterdam/agenda/cleanup-juli
END:VEVENT
END:VCALENDAR
