BEGIN:VCALENDAR
VERSION:2.0
PRODID:-//Volt Europa//Events//EN
CALSCALE:GREGORIAN
METHOD:PUBLISH
BEGIN:VEVENT
UID:clean-up-met-een-tweede-kamer-kandidaat-doe-mee-1-1-1-1-1-1760180400@vo
 ltnederland.org
DTSTAMP:20260423T114548Z
DTSTART;TZID=Europe/Amsterdam:20251011T130000
DTEND;TZID=Europe/Amsterdam:20251011T150000
SUMMARY:Clean-Up met een Tweede Kamer-kandidaat - doe mee!
DESCRIPTION:Zie jij Amsterdam graag een stuk schoner en meer opgeruimd? Heb
  je een paar uurtjes over om daaraan bij te dragen? En lijkt het je leuk om
  tijdens het opruimen met mensen in gesprek te gaan? Wees dan bij één van
  de Clean-Ups met Tweede Kamer-kandidaten! In september en oktober organise
 ert Volt Amsterdam elk weekend in een andere buurt een opruimactie. Eén of
  meerdere Amsterdamse kandidaten zijn erbij om samen met jou de straat op t
 e gaan. Gewapend met afvalgrijpers\, afvalzakken\, Volt flyers om u
LOCATION:Noordermarkt
URL:https://voltnederland.org/amsterdam/agenda/clean-up-met-een-tweede-kame
 r-kandidaat-doe-mee-1-1-1-1-1
END:VEVENT
END:VCALENDAR
