BEGIN:VCALENDAR
VERSION:2.0
PRODID:-//Volt Europa//Events//EN
CALSCALE:GREGORIAN
METHOD:PUBLISH
BEGIN:VEVENT
UID:beleidschallenge-2-1719144000@voltnederland.org
DTSTAMP:20260422T172253Z
DTSTART;TZID=Europe/Amsterdam:20240623T140000
DTEND;TZID=Europe/Amsterdam:20240623T161500
SUMMARY:2e Volt Amsterdam Beleidschallenge
DESCRIPTION:Zin om jouw stempel te drukken op de toekomst van Amsterdam? Di
 t is jouw moment! ⭐️ Kom naar onze 2de bijeenkomst van het beleidsteam 
 op  23 juni  in huis van de wijk De Pijp\, 2e van der Helststraat 66. Inloo
 p vanaf 13:45\, start om 14:00\, gevolgd door een gezellige borrel om 16:15
 . Dit keer hebben we iets speciaals voor jullie in petto: de Beleidschallen
 ge! Binnen 2\,5 uur doorlopen we samen het beleidsvormingsproces rondom act
 uele beleidsthema's. Beleidschallenge: Werk samen in groepjes en ervaa
LOCATION:Huis van de wijk De Pijp\, 2e van der Helststraat 66
URL:https://voltnederland.org/amsterdam/agenda/beleidschallenge-2
END:VEVENT
END:VCALENDAR
