BEGIN:VCALENDAR
VERSION:2.0
PRODID:-//Volt Europa//Events//EN
CALSCALE:GREGORIAN
METHOD:PUBLISH
BEGIN:VEVENT
UID:ade-evenement-1697839200@voltnederland.org
DTSTAMP:20260423T142154Z
DTSTART;TZID=Europe/Amsterdam:20231021T000000
DTEND;TZID=Europe/Amsterdam:20231021T000000
SUMMARY:ADE evenement
DESCRIPTION:-English below- Op 21 oktober organiseren we tijdens het Amster
 dam Dance Event een ludieke paarse actie. Details volgen later! English On 
 October 21\, we will organize a fun purple promotion during the Amsterdam D
 ance Event. Details will follow later!
LOCATION:Amsterdam
URL:https://voltnederland.org/amsterdam/agenda/ade-evenement
END:VEVENT
END:VCALENDAR
