BEGIN:VCALENDAR
VERSION:2.0
PRODID:-//Volt Europa//Events//EN
CALSCALE:GREGORIAN
METHOD:PUBLISH
BEGIN:VEVENT
UID:2026-nieuwjaarsborrel-campagne-kick-off-1769709600@voltnederland.org
DTSTAMP:20260423T211829Z
DTSTART;TZID=Europe/Amsterdam:20260129T190000
DTEND;TZID=Europe/Amsterdam:20260129T235900
SUMMARY:NIEUWJAARSPARTY
DESCRIPTION:Volt Amsterdam Nieuwjaarsparty Nieuw jaar. Nieuwe energie. Op 2
 9 januari trappen we 2026 af bij Radio Radio met DJ’s\, goeie mensen en n
 ul politieke speeches (oké\, misschien één korte). Kom borrelen\, dansen
 \, en knal het nieuwe jaar in met Volt. Radio Radio — 19:00 David Jesse G
 ouden Plaatjes Bas Tissing Mystery Guest (??? Soundsystem) ⁠ Tickets  of 
 DM voor gastenlijst. See you there.
LOCATION:Radio Radio\, Pazzanistraat 3\, 1014 DB Amsterdam
URL:https://voltnederland.org/amsterdam/agenda/2026-nieuwjaarsborrel-campag
 ne-kick-off
END:VEVENT
END:VCALENDAR
