BEGIN:VCALENDAR
VERSION:2.0
PRODID:-//Volt Europa//Events//EN
CALSCALE:GREGORIAN
METHOD:PUBLISH
BEGIN:VEVENT
UID:2026-campagne-veiling-1770921000@voltnederland.org
DTSTAMP:20260423T211011Z
DTSTART;TZID=Europe/Amsterdam:20260212T193000
DTEND;TZID=Europe/Amsterdam:20260212T230000
SUMMARY:Campagne Veiling
DESCRIPTION:Ben je klaar voor een avond vol gezelligheid én impact? Kom da
 n nu naar het eerste Fundraising evenement van het jaar! Of je nu komt om m
 et Volters en niet Volters een borrel te drinken of mee te doen met de veil
 ing om zo de campagne te sponseren. Dit is wat je kan verwachten: - Veel pl
 ezier - Mooie veilingitems - Een veilingmeester(es) die helemaal past bij h
 et Paleis - Interessante sprekers (more TBA) - Een gratis drankje en borrel
 hap Een greep uit de veilingitems: - Een dinershow bij Paleis v
LOCATION:Paleis van de Weemoed\, Oudezijds Voorburgwal 15\, 1012 EH Amsterd
 am
URL:https://voltnederland.org/amsterdam/agenda/2026-campagne-veiling
END:VEVENT
END:VCALENDAR
