BEGIN:VCALENDAR
VERSION:2.0
PRODID:-//Volt Europa//Events//EN
CALSCALE:GREGORIAN
METHOD:PUBLISH
BEGIN:VEVENT
UID:workshop-over-de-kandidaatstelling-voor-de-tweede-kamer-1750269600@volt
 nederland.org
DTSTAMP:20260423T114107Z
DTSTART;TZID=Europe/Amsterdam:20250618T200000
DTEND;TZID=Europe/Amsterdam:20250618T213000
SUMMARY:Workshop over de kandidaatstelling voor de Tweede Kamer
DESCRIPTION:We nodigen je van harte uit om deel te nemen aan een informatie
 ve\, interactieve workshop en inspiratiesessie over het kandidaatstellingsp
 roces voor het Tweede Kamerlidmaatschap voor Volt. Deze vindt  online  plaa
 ts op woensdag 18 juni van 20.00 uur tot 21.30 uur. Er is een beperkt aanta
 l plekken beschikbaar\; wacht dus niet te lang met aanmelden. De workshop g
 eeft informatie over onder meer de vacature\, de procedure met de kandidate
 ncommissie en wat het inhoudt om kandidaat te zijn vanaf de voors
LOCATION:Online
URL:https://voltnederland.org/agenda/workshop-over-de-kandidaatstelling-voo
 r-de-tweede-kamer
END:VEVENT
END:VCALENDAR
