BEGIN:VCALENDAR
VERSION:2.0
PRODID:-//Volt Europa//Events//EN
CALSCALE:GREGORIAN
METHOD:PUBLISH
BEGIN:VEVENT
UID:workshop-een-nieuwe-kijk-op-economie-1776877200@voltnederland.org
DTSTAMP:20260421T094014Z
DTSTART;TZID=Europe/Amsterdam:20260422T190000
DTEND;TZID=Europe/Amsterdam:20260422T210000
SUMMARY:Workshop: Een nieuwe kijk op economie
DESCRIPTION:Speel mee. Ruil. Verdien. Ontdek het geheim van geld en belasti
 ngen. Een verrassende\, toegankelijke workshop die economie tastbaar maakt.
  Hoe werkt de staatseconomie nu echt? In deze speelse en intuïtieve worksh
 op stap je in een levende mini-maatschappij. Samen bouwen we een kleine eco
 nomie en ontdek je van binnenuit hoe geld\, overheid en samenwerking met el
 kaar samenhangen. Voor wie? Deze workshop is voor deelnemers die geïnteres
 seerd zijn in de werking van de Nederlandse economie? Door middel 
LOCATION:Partijbureau\, Koninginnegracht 7\, Den Haag
URL:https://voltnederland.org/agenda/workshop-een-nieuwe-kijk-op-economie
END:VEVENT
END:VCALENDAR
