BEGIN:VCALENDAR
VERSION:2.0
PRODID:-//Volt Europa//Events//EN
CALSCALE:GREGORIAN
METHOD:PUBLISH
BEGIN:VEVENT
UID:wij-trekken-de-rode-lijn-1747566000@voltnederland.org
DTSTAMP:20260423T102103Z
DTSTART;TZID=Europe/Amsterdam:20250518T130000
DTEND;TZID=Europe/Amsterdam:20250518T170000
SUMMARY:Wij trekken de Rode Lijn!
DESCRIPTION:Het kabinet kijkt weg\, terwijl Israël zich schuldig maakt aan
  genocide\, etnische zuivering en honger gebruikt als wapen in Gaza. Dit mo
 et stoppen. Wij trekken zondag de rode lijn voor Gaza. Jij ook? Loop met on
 s mee! Belangrijk: trek rood aan! We laten de partijkleding en paarse vlagg
 en deze zondag thuis. 12:00 - 12:15  Verzamelen voor de Universiteit Leiden
  bij Den Haag Centraal. Adres: Anna van Buerenplein 301\, 2595 Den Haag. 12
 :15 - 13:00  Gezamenlijk lopen naar Malieveld. 13:00 - 17:00 Samen
LOCATION:Malieveld\, Den Haag
URL:https://voltnederland.org/agenda/wij-trekken-de-rode-lijn
END:VEVENT
END:VCALENDAR
