BEGIN:VCALENDAR
VERSION:2.0
PRODID:-//Volt Europa//Events//EN
CALSCALE:GREGORIAN
METHOD:PUBLISH
BEGIN:VEVENT
UID:walk-of-love-utrecht-1728732600@voltnederland.org
DTSTAMP:20260423T144235Z
DTSTART;TZID=Europe/Amsterdam:20241012T133000
DTEND;TZID=Europe/Amsterdam:20241012T170000
SUMMARY:Walk of Love Utrecht
DESCRIPTION:Op zaterdag 12 oktober trekt de Utrechtse Walk of Love met een 
 25 meter lange regenboogvlag door de stad. De kleurrijke demonstratie is on
 derdeel van het slotweekend van het Utrecht Queer Culture Festival 2024. De
  wandeling start op het jaarbeursplein en eindigt bij het Utrechtse Homomon
 ument op het Domplein. QueerVolt gaat hier meelopen als afsluiting van het 
 Pride seizoen 2024 en omdat wij het net als de organisatie van deze wandeli
 ng belangrijk vinden om te laten zien dat liefde universeel is
LOCATION:Jaarbeursplein Utrecht
URL:https://voltnederland.org/agenda/walk-of-love-utrecht
END:VEVENT
END:VCALENDAR
