BEGIN:VCALENDAR
VERSION:2.0
PRODID:-//Volt Europa//Events//EN
CALSCALE:GREGORIAN
METHOD:PUBLISH
BEGIN:VEVENT
UID:vvv-volt-vakantie-vrijmibo-1751639400@voltnederland.org
DTSTAMP:20260423T102104Z
DTSTART;TZID=Europe/Amsterdam:20250704T163000
DTEND;TZID=Europe/Amsterdam:20250704T230000
SUMMARY:VVV: Volt-Vakantie-Vrijmibo!
DESCRIPTION:Vrijdag 4 juli luiden we samen de zomer in met een gezellige vr
 ijmibo! Vanaf 16:30 ben je van harte welkom bij Bar le Duc (Korenbrugstraat
  7\, Den Bosch) om het politieke zomerreces feestelijk af te trappen. Of je
  nu wilt bijpraten met mede-Volters\, nieuwe mensen wilt ontmoeten of gewoo
 n zin hebt in een ontspannen middag en avond: kom vooral langs. We hopen je
  daar te zien! Tot dan\, Fractie Volt Den Bosch & Community Noordoost-Braba
 nt
LOCATION:Bar le Duc\, Korenbrugstraat 7\, Den Bosch
URL:https://voltnederland.org/agenda/vvv-volt-vakantie-vrijmibo
END:VEVENT
END:VCALENDAR
