BEGIN:VCALENDAR
VERSION:2.0
PRODID:-//Volt Europa//Events//EN
CALSCALE:GREGORIAN
METHOD:PUBLISH
BEGIN:VEVENT
UID:vrouwen-van-volt-maak-het-verschil-bij-de-aankomende-gemeenteraadsverki
 ezingen-2-1734375600@voltnederland.org
DTSTAMP:20260423T114340Z
DTSTART;TZID=Europe/Amsterdam:20241216T200000
DTEND;TZID=Europe/Amsterdam:20241216T210000
SUMMARY:Vrouwen van Volt: maak het verschil bij de aankomende gemeenteraads
 verkiezingen
DESCRIPTION:Informatiebijeenkomsten over meer vrouwen in de gemeentepolitie
 k: zet de eerste stap.  Wist je dat vrouwen nog steeds ondervertegenwoordi
 gd zijn in de lokale politiek? Dat moet anders. Vrouwen hebben unieke inzic
 hten\, oplossingen en ideeën maar twijfelen vaak of politiek iets voor hen
  is. Vrouwen van Volt nodigt jou uit voor twee inspirerende bijeenkomsten o
 p  2 en 16 decembe r\, gericht op het motiveren en ondersteunen van vrouwen
  die hun plek willen vinden in de gemeentepolitiek. Een samenlevin
LOCATION:Online
URL:https://voltnederland.org/agenda/vrouwen-van-volt-maak-het-verschil-bij
 -de-aankomende-gemeenteraadsverkiezingen-2
END:VEVENT
END:VCALENDAR
