BEGIN:VCALENDAR
VERSION:2.0
PRODID:-//Volt Europa//Events//EN
CALSCALE:GREGORIAN
METHOD:PUBLISH
BEGIN:VEVENT
UID:vrouwen-themadagen-1734458400@voltnederland.org
DTSTAMP:20260423T101947Z
DTSTART;TZID=Europe/Amsterdam:20241217T190000
DTEND;TZID=Europe/Amsterdam:20241217T220000
SUMMARY:De rol van je gender - Themadag 1
DESCRIPTION:Wie: Iedereen Wat: drie themabijeenkomsten over vrouwen in de s
 amenleving en politiek Waar: Wijkpunt de Heurne Enschede Wanneer:  17 dec 
 van 19:00 tot 22:00 over het wat\, waarom en hoe van vrouw/man verschillen 
  18 jan van 13:00 tot 17:00 over leven in een mannenwereld 8 maart van 9:00
  tot 14:00 over vrouwen in de politiek Mannen\, vrouwen of divers\, we zijn
  allemaal mensen. Maar waarom is de wereld zoveel meer ingericht op de man?
  Tijd voor de rest om ook de vleugels uit te slaan! Samen als mens
LOCATION:Enschede\, wijkcentrum de Heurne\, de Heurne 32
URL:https://voltnederland.org/overijssel/agenda/vrouwen-themadagen
END:VEVENT
END:VCALENDAR
